BEGIN:VCALENDAR
VERSION:2.0
PRODID:-//Town of Brownville, NY - ECPv6.15.10//NONSGML v1.0//EN
CALSCALE:GREGORIAN
METHOD:PUBLISH
X-WR-CALNAME:Town of Brownville, NY
X-ORIGINAL-URL:https://townofbrownville.com
X-WR-CALDESC:Events for Town of Brownville, NY
REFRESH-INTERVAL;VALUE=DURATION:PT1H
X-Robots-Tag:noindex
X-PUBLISHED-TTL:PT1H
BEGIN:VTIMEZONE
TZID:UTC
BEGIN:STANDARD
TZOFFSETFROM:+0000
TZOFFSETTO:+0000
TZNAME:UTC
DTSTART:20230101T000000
END:STANDARD
END:VTIMEZONE
BEGIN:VEVENT
DTSTART;TZID=UTC:20240825T080000
DTEND;TZID=UTC:20240825T170000
DTSTAMP:20260425T005521
CREATED:20240721T155934Z
LAST-MODIFIED:20240721T155934Z
UID:115-1724572800-1724605200@townofbrownville.com
SUMMARY:Water Leak-Update
DESCRIPTION:
URL:https://townofbrownville.com/event/water-leak-update/
END:VEVENT
BEGIN:VEVENT
DTSTART;TZID=UTC:20240823T080000
DTEND;TZID=UTC:20240823T170000
DTSTAMP:20260425T005521
CREATED:20240721T155955Z
LAST-MODIFIED:20240721T155955Z
UID:117-1724400000-1724432400@townofbrownville.com
SUMMARY:Water Leak
DESCRIPTION:
URL:https://townofbrownville.com/event/water-leak/
END:VEVENT
BEGIN:VEVENT
DTSTART;TZID=UTC:20240810T080000
DTEND;TZID=UTC:20240810T170000
DTSTAMP:20260425T005521
CREATED:20240721T155610Z
LAST-MODIFIED:20240721T155643Z
UID:113-1723276800-1723309200@townofbrownville.com
SUMMARY:Notice of Public Hearing
DESCRIPTION:
URL:https://townofbrownville.com/event/notice-of-public-hearing/
END:VEVENT
END:VCALENDAR